BEGIN:VCALENDAR
VERSION:2.0
PRODID:-//Petra Lauer - ECPv6.15.20//NONSGML v1.0//EN
CALSCALE:GREGORIAN
METHOD:PUBLISH
X-ORIGINAL-URL:https://petralauer.de
X-WR-CALDESC:Veranstaltungen für Petra Lauer
REFRESH-INTERVAL;VALUE=DURATION:PT1H
X-Robots-Tag:noindex
X-PUBLISHED-TTL:PT1H
BEGIN:VTIMEZONE
TZID:Europe/Berlin
BEGIN:DAYLIGHT
TZOFFSETFROM:+0100
TZOFFSETTO:+0200
TZNAME:CEST
DTSTART:20180325T010000
END:DAYLIGHT
BEGIN:STANDARD
TZOFFSETFROM:+0200
TZOFFSETTO:+0100
TZNAME:CET
DTSTART:20181028T010000
END:STANDARD
BEGIN:DAYLIGHT
TZOFFSETFROM:+0100
TZOFFSETTO:+0200
TZNAME:CEST
DTSTART:20190331T010000
END:DAYLIGHT
BEGIN:STANDARD
TZOFFSETFROM:+0200
TZOFFSETTO:+0100
TZNAME:CET
DTSTART:20191027T010000
END:STANDARD
BEGIN:DAYLIGHT
TZOFFSETFROM:+0100
TZOFFSETTO:+0200
TZNAME:CEST
DTSTART:20200329T010000
END:DAYLIGHT
BEGIN:STANDARD
TZOFFSETFROM:+0200
TZOFFSETTO:+0100
TZNAME:CET
DTSTART:20201025T010000
END:STANDARD
BEGIN:DAYLIGHT
TZOFFSETFROM:+0100
TZOFFSETTO:+0200
TZNAME:CEST
DTSTART:20210328T010000
END:DAYLIGHT
BEGIN:STANDARD
TZOFFSETFROM:+0200
TZOFFSETTO:+0100
TZNAME:CET
DTSTART:20211031T010000
END:STANDARD
BEGIN:DAYLIGHT
TZOFFSETFROM:+0100
TZOFFSETTO:+0200
TZNAME:CEST
DTSTART:20220327T010000
END:DAYLIGHT
BEGIN:STANDARD
TZOFFSETFROM:+0200
TZOFFSETTO:+0100
TZNAME:CET
DTSTART:20221030T010000
END:STANDARD
BEGIN:DAYLIGHT
TZOFFSETFROM:+0100
TZOFFSETTO:+0200
TZNAME:CEST
DTSTART:20230326T010000
END:DAYLIGHT
BEGIN:STANDARD
TZOFFSETFROM:+0200
TZOFFSETTO:+0100
TZNAME:CET
DTSTART:20231029T010000
END:STANDARD
BEGIN:DAYLIGHT
TZOFFSETFROM:+0100
TZOFFSETTO:+0200
TZNAME:CEST
DTSTART:20240331T010000
END:DAYLIGHT
BEGIN:STANDARD
TZOFFSETFROM:+0200
TZOFFSETTO:+0100
TZNAME:CET
DTSTART:20241027T010000
END:STANDARD
END:VTIMEZONE
BEGIN:VEVENT
DTSTART;TZID=Europe/Berlin:20230115T170000
DTEND;TZID=Europe/Berlin:20230115T190000
DTSTAMP:20260423T124243
CREATED:20221210T215505Z
LAST-MODIFIED:20230110T095537Z
UID:974-1673802000-1673809200@petralauer.de
SUMMARY:Petra Lauer live auf dem Neujahrsempfang der Stadt Eisenberg/Pfalz in der Janturnhalle  ab 17:00 Uhr
DESCRIPTION:Petra Lauer live auf dem Neujahrsempfang der Stadt Eisenberg/Pfalz in der Jahnturnhalle\, Friedrich-Ebert-Straße 11 in Eisenberg \n Beginn:  17:00 Uhr
URL:https://petralauer.de/event/petra-lauer-live-auf-dem-neujahrsempfang-der-stadt-eisenberg-pfalz-im-park-haus-isenburg-ab-1700-uhr/
LOCATION:67304 Eisenberg/ Pfalz\, Jahnturnhalle\, Friedrich-Ebert-Straße 11\, Jahnturnhalle\, Friedrich-Ebert-Straße 11\, Eisenberg\, Rheinland-Pfalz\, 67304\, Germany
END:VEVENT
BEGIN:VEVENT
DTSTART;TZID=Europe/Berlin:20220903T110000
DTEND;TZID=Europe/Berlin:20220903T120000
DTSTAMP:20260423T124243
CREATED:20220811T210857Z
LAST-MODIFIED:20220811T213037Z
UID:962-1662202800-1662206400@petralauer.de
SUMMARY:Musikalische Unterhaltung auf dem Seniorenfrühschoppen 03.09.2022 Kerwe Eisenberg/Pfalz
DESCRIPTION:Musikalische Unterhaltung auf dem Seniorenfrühschoppen 03.09.2022 Kerwe Eisenberg/Pfalz \nPetra Live beim Seniorenfrühschoppen
URL:https://petralauer.de/event/musikalische-unterhaltung-auf-dem-seniorenfruehschoppen-03-09-2022-kerwe-eisenberg-pfalz/
LOCATION:Wochenmarktplatz Eisenberg/Pfalz\, Kerzenheimer Str. 21\, Eisenberg\, Rheinland-Pfalz\, 67304\, Germany
END:VEVENT
BEGIN:VEVENT
DTSTART;VALUE=DATE:20211013
DTEND;VALUE=DATE:20211014
DTSTAMP:20260423T124243
CREATED:20211006T212121Z
LAST-MODIFIED:20211006T212121Z
UID:920-1634083200-1634169599@petralauer.de
SUMMARY:VERÖFFENTLICHUNG
DESCRIPTION:Ab heute ist auf allen Streaming-Portalen mein neuer Song online und zum anhören bereit.
URL:https://petralauer.de/event/veroeffentlichung/
LOCATION:Rheinland-Pfalz
END:VEVENT
BEGIN:VEVENT
DTSTART;TZID=Europe/Berlin:20200328T180000
DTEND;TZID=Europe/Berlin:20200328T210000
DTSTAMP:20260423T124243
CREATED:20200214T135048Z
LAST-MODIFIED:20200315T144544Z
UID:875-1585418400-1585429200@petralauer.de
SUMMARY:ABGESAGT-After-Show-Party im Saumagenkeller (WEGEN CORONA ABGESAGT)
DESCRIPTION:28.03.2020\,  18:00 bis 21:00 Uhr \n-After-Show-Party- (Fällt wegen Corona leider aus) \nim „Saumagenkeller“ \nWeinstr. 53\, 67169 Kallstadt \n\nIm Wörterbuch speichern\n\n\nKeine Wortliste für Englisch -> Deutsch…\n\n\nEine neue Wortliste erstellen…\n\n\nKopieren
URL:https://petralauer.de/event/after-show-party-im-saumagenkeller/
LOCATION:Saumagenkeller Kallstadt\, Weinstraße 53\, Kallstadt\, Rheinland-Pfalz\, 67169\, Germany
END:VEVENT
BEGIN:VEVENT
DTSTART;TZID=Europe/Berlin:20191201T120000
DTEND;TZID=Europe/Berlin:20191201T200000
DTSTAMP:20260423T124243
CREATED:20191130T104225Z
LAST-MODIFIED:20191201T091622Z
UID:864-1575201600-1575230400@petralauer.de
SUMMARY:Musikalische-Unterhaltung auf einem Indoor-Weihnachtsmarkt
DESCRIPTION:01.12.2019\,  12:00 bis 20:00 Uhr \n-Musikalische-Unterhaltung auf einem Indoor-Weihnachtsmarkt- \n  \nim „Saumagenkeller“ \nWeinstr. 53\, 67169 Kallstadt
URL:https://petralauer.de/event/musikalische-unterhaltung-auf-einem-indoor-weihnachtsmarkt-2/
LOCATION:Saumagenkeller Kallstadt\, Weinstraße 53\, Kallstadt\, Rheinland-Pfalz\, 67169\, Germany
END:VEVENT
BEGIN:VEVENT
DTSTART;TZID=Europe/Berlin:20191130T170000
DTEND;TZID=Europe/Berlin:20191130T220000
DTSTAMP:20260423T124243
CREATED:20191130T103946Z
LAST-MODIFIED:20191130T103946Z
UID:862-1575133200-1575151200@petralauer.de
SUMMARY:Musikalische-Unterhaltung auf einem Indoor-Weihnachtsmarkt
DESCRIPTION:30.11.2019\,  17:00 bis 22:00 Uhr \n-Musikalische-Unterhaltung auf einem Indoor-Weihnachtsmarkt- \n  \nim „Saumagenkeller“ \nWeinstr. 53\, 67169 Kallstadt
URL:https://petralauer.de/event/musikalische-unterhaltung-auf-einem-indoor-weihnachtsmarkt/
LOCATION:Saumagenkeller Kallstadt\, Weinstraße 53\, Kallstadt\, Rheinland-Pfalz\, 67169\, Germany
END:VEVENT
BEGIN:VEVENT
DTSTART;TZID=Europe/Berlin:20191129T170000
DTEND;TZID=Europe/Berlin:20191129T220000
DTSTAMP:20260423T124243
CREATED:20191130T104558Z
LAST-MODIFIED:20191130T104558Z
UID:866-1575046800-1575064800@petralauer.de
SUMMARY:Musikalische-Unterhaltung auf einem Indoor-Weihnachtsmarkt
DESCRIPTION:29.11.2019\,  17:00 bis 22:00 Uhr \n-Musikalische-Unterhaltung auf einem Indoor-Weihnachtsmarkt- \n  \nim „Saumagenkeller“ \nWeinstr. 53\, 67169 Kallstadt
URL:https://petralauer.de/event/musikalische-unterhaltung-auf-einem-indoor-weihnachtsmarkt-3/
LOCATION:Saumagenkeller Kallstadt\, Weinstraße 53\, Kallstadt\, Rheinland-Pfalz\, 67169\, Germany
END:VEVENT
BEGIN:VEVENT
DTSTART;TZID=Europe/Berlin:20191109T150000
DTEND;TZID=Europe/Berlin:20191109T160000
DTSTAMP:20260423T124243
CREATED:20190218T115334Z
LAST-MODIFIED:20190218T115334Z
UID:808-1573311600-1573315200@petralauer.de
SUMMARY:Melodienstrauß der 1920 - 60er Jahre
DESCRIPTION:09.11.2019\, 15:00 – 16:00 Uhr \n– Melodienstrauß der 1920 – 60er Jahre– \nim „Caritas-Altenzentrum- St. Bonifatius“ \nAlbert-Schweitzer-Str. 3 u. 5\, 67117 Limburgerhof
URL:https://petralauer.de/event/melodienstrauss-der-1920-60er-jahre/
LOCATION:Caritas-Altenzentrum- St. Bonifatius\, Albert-Schweitzer-Str. 3 u. 5\, Limburgerhof\, Rheinland-pfalz\, 67117\, Germany
END:VEVENT
BEGIN:VEVENT
DTSTART;TZID=Europe/Berlin:20191103T170000
DTEND;TZID=Europe/Berlin:20191103T220000
DTSTAMP:20260423T124243
CREATED:20191017T203832Z
LAST-MODIFIED:20191017T203832Z
UID:856-1572800400-1572818400@petralauer.de
SUMMARY:Musik beim Spaghettiplausch
DESCRIPTION:03.11.2019\,  17:00 bis 22:00 Uhr \n-Musikalische-Unterhaltung mit Spaghettiplausch- \n  \nim „UG Kirche Sonnenfeld“ \nKirchfeldstrasse 25\, 3612 Stefisburg (Schweiz)
URL:https://petralauer.de/event/musik-beim-spaghettiplausch/
LOCATION:UG Kirche Sonnenfeld\, Kirchfeldstrasse 25\, Stefisburg\, Bern\, 3612\, Switzerland
END:VEVENT
BEGIN:VEVENT
DTSTART;TZID=Europe/Berlin:20191014T150000
DTEND;TZID=Europe/Berlin:20191014T160000
DTSTAMP:20260423T124243
CREATED:20190129T163929Z
LAST-MODIFIED:20190129T164356Z
UID:674-1571065200-1571068800@petralauer.de
SUMMARY:Mit Musik in den Herbst
DESCRIPTION:14.10.2019\, 15:00 Uhr \n-Mit Musik in den Herbst- \nim „Seniorenstift Bürgerhospital“ \nMausbergweg 110\, 67346 Speyer
URL:https://petralauer.de/event/mit-musik-in-den-herbst/
LOCATION:Seniorenstift Bürgerhospital Speyer\, Mausbergweg 110\, Speyer\, Rheinland-Pfalz\, 67346\, Germany
END:VEVENT
BEGIN:VEVENT
DTSTART;TZID=Europe/Berlin:20191012T150000
DTEND;TZID=Europe/Berlin:20191012T160000
DTSTAMP:20260423T124243
CREATED:20190129T174334Z
LAST-MODIFIED:20190129T174855Z
UID:686-1570892400-1570896000@petralauer.de
SUMMARY:Musikalischer Nachmittag
DESCRIPTION:12.10.2019\, 15:00 Uhr \n-Musikalischer Nachmittag- \nin der „Schloss-Residenz “ \nSchlossplatz 3\, 67292 Kirchheimbolanden
URL:https://petralauer.de/event/musikalischer-nachmittag-3/
LOCATION:Schloss-Residenz\, Kirchheimbolanden\, Schloßplatz3\, Kirchheimbolanden\, Rheinland-Pfalz\, 67292\, Germany
END:VEVENT
BEGIN:VEVENT
DTSTART;TZID=Europe/Berlin:20190914T151500
DTEND;TZID=Europe/Berlin:20190914T161500
DTSTAMP:20260423T124243
CREATED:20190129T181242Z
LAST-MODIFIED:20190129T181242Z
UID:694-1568474100-1568477700@petralauer.de
SUMMARY:Deutsche Schlager der 50er und 60er Jahre
DESCRIPTION:14.09.2019\, 15:15 Uhr\n-Deutsche Schlager der 50er und 60er Jahre- \nim „Haus am Germansberg“\nElse-Krieg-Straße 2\, 67346 Speyer \nInterne Veranstaltung\, nicht öffentlich
URL:https://petralauer.de/event/deutsche-schlager-der-50er-und-60er-jahre/
LOCATION:Haus am Germansberg\, Speyer\, Else-Krieg-Straße 2\, Speyer\, Rheinland-Pfalz\, 67346\, Germany
ORGANIZER;CN="Haus am Germasberg%2C Speyer":MAILTO:stephanie.werner@diakonissen.de
END:VEVENT
BEGIN:VEVENT
DTSTART;TZID=Europe/Berlin:20190824T160000
DTEND;TZID=Europe/Berlin:20190824T235900
DTSTAMP:20260423T124243
CREATED:20190226T193034Z
LAST-MODIFIED:20190731T110639Z
UID:819-1566662400-1566691140@petralauer.de
SUMMARY:4te Schlagerparty der Bärner Schlagerwelt im Schlagerkönig Uetendorf CH
DESCRIPTION:Samstag\, 24.08.2019 ab ca. 16:00 Uhr bis 24:00 Uhr \n4te Schlagerparty der Bärner Schlagerwelt \nRestaurant Rössle (Schlagerkönig) \nDorfstrasse 15\, 3661 Uetendorf (Schweiz) \nLive-Übertragung von Radio Kaiseegg\, RaBe\, Diis-Radio \n\n\n 
URL:https://petralauer.de/event/4te-schlagerparty-der-baerner-schlagerwelt-im-schlagerkoenig-uetendorf-ch/
LOCATION:Schlagerkönig im Roessli\, 3661 Uetendorf\, Schweiz\, Dorfstrasse 15\, Uetendorf\, Bern\, 3661\, Switzerland
ORGANIZER;CN="Schlagerk%C3%B6nig im Roessli-Uetendorf%2C Schweiz":MAILTO:info@roessli-uetendorf.ch
END:VEVENT
BEGIN:VEVENT
DTSTART;TZID=Europe/Berlin:20190708T170000
DTEND;TZID=Europe/Berlin:20190708T170000
DTSTAMP:20260423T124243
CREATED:20190211T181647Z
LAST-MODIFIED:20190212T104444Z
UID:775-1562605200-1562605200@petralauer.de
SUMMARY:Musik auf Kerwe Wattenheim
DESCRIPTION:Montag\, 08.07.2019\, 15:00 – 16:00 Uhr Uhr\n\n-Musik auf Kerwe Wattenheim-\n„Kerweplatz“\nAm Wasserturm\, 67319 Wattenheim
URL:https://petralauer.de/event/musik-auf-kerwe-wattenheim/
LOCATION:Kerweplatz Wattenheim\, Am Wasserturm\, Wattenheim\, Rheinland-pfalz\, 67319\, Germany
END:VEVENT
BEGIN:VEVENT
DTSTART;TZID=Europe/Berlin:20190603T150000
DTEND;TZID=Europe/Berlin:20190603T160000
DTSTAMP:20260423T124243
CREATED:20190129T163511Z
LAST-MODIFIED:20190315T182504Z
UID:669-1559574000-1559577600@petralauer.de
SUMMARY:Musik zum Sommerfest
DESCRIPTION:03.06.2019\, 15:00 Uhr \n-Musik zum Frühlingsfest- \nim „Seniorenstift Bürgerhospital“ \nMausbergweg 110\, 67346 Speyer
URL:https://petralauer.de/event/sommerfest/
LOCATION:Seniorenstift Bürgerhospital Speyer\, Mausbergweg 110\, Speyer\, Rheinland-Pfalz\, 67346\, Germany
END:VEVENT
BEGIN:VEVENT
DTSTART;TZID=Europe/Berlin:20190526T180000
DTEND;TZID=Europe/Berlin:20190526T233000
DTSTAMP:20260423T124243
CREATED:20190519T163536Z
LAST-MODIFIED:20190519T163536Z
UID:849-1558893600-1558913400@petralauer.de
SUMMARY:Wahlparty
DESCRIPTION:26.05.2019\, ab 18:00 Uhr \n-Musikalische Wahlparty- \nim „Bistro Platane“ \nWattenheimerstr. 2\, 67317 Carlsberg
URL:https://petralauer.de/event/wahlparty/
LOCATION:Bistro Platane\, Wattenheimerstr. 2\, Carlsberg\, Rheinland-pfalz\, 67316\, Germany
END:VEVENT
BEGIN:VEVENT
DTSTART;VALUE=DATE:20190520
DTEND;VALUE=DATE:20190521
DTSTAMP:20260423T124243
CREATED:20190129T175654Z
LAST-MODIFIED:20190129T180059Z
UID:689-1558310400-1558396799@petralauer.de
SUMMARY:Musik zum Erdbeerfest
DESCRIPTION:20.05.2019\, 15:30 Uhr \n-Musik zum Erdbeerfest- \nim „Domicil am Stadtpark “ \nKurmainzerstr. 18\, 65929 Frankfurt \nInterne Veranstaltung\, nicht öffentlich.
URL:https://petralauer.de/event/musik-zum-erdbeerfest/
LOCATION:Domicil am Stadtpark\, Kurmainzer Str. 18\, Frankfurt Hoechst\, Hessen\, 65629\, Germany
END:VEVENT
BEGIN:VEVENT
DTSTART;TZID=Europe/Berlin:20190518T150000
DTEND;TZID=Europe/Berlin:20190518T160000
DTSTAMP:20260423T124243
CREATED:20190129T173901Z
LAST-MODIFIED:20190129T174031Z
UID:683-1558191600-1558195200@petralauer.de
SUMMARY:Musikalischer Nachmittag
DESCRIPTION:18.05.2019\, 15:00 Uhr \n-Musikalischer Nachmittag- \nin der „Schloss-Residenz “ \nSchlossplatz 3\, 67292 Kirchheimbolanden
URL:https://petralauer.de/event/musikalischer-nachmittag-2/
LOCATION:Schloss-Residenz\, Kirchheimbolanden\, Schloßplatz3\, Kirchheimbolanden\, Rheinland-Pfalz\, 67292\, Germany
END:VEVENT
BEGIN:VEVENT
DTSTART;TZID=Europe/Berlin:20190514T140000
DTEND;TZID=Europe/Berlin:20190514T150000
DTSTAMP:20260423T124243
CREATED:20190503T130735Z
LAST-MODIFIED:20190503T130735Z
UID:841-1557842400-1557846000@petralauer.de
SUMMARY:Melodienstrauß
DESCRIPTION:14.05.2019\, 14:00 – 15:00 Uhr \n-Melodienstrauß- \nim „Seniorenpark Hinterweidenthal“ \nIn den Birken 66\, 66999 Hinterweidenthal
URL:https://petralauer.de/event/melodienstrauss/
LOCATION:Seniorenpark Hinterweidenthal\, In den Birken 66\, Hinterweidenthal\, Rheinland-Pfalz\, 66999\, Germany
END:VEVENT
BEGIN:VEVENT
DTSTART;TZID=Europe/Berlin:20190510T170000
DTEND;TZID=Europe/Berlin:20190510T190000
DTSTAMP:20260423T124243
CREATED:20190209T184542Z
LAST-MODIFIED:20190209T184542Z
UID:770-1557507600-1557514800@petralauer.de
SUMMARY:Hits & Evergreens für die Generation Gold 3
DESCRIPTION:10.05.2019\, 17:00 – 19:00Uhr \n-Hits & Evergreens für die Generation Gold- \nim „Bistro Platane“ \nWattenheimerstr. 2\, 67317 Carlsberg
URL:https://petralauer.de/event/hits-evergreens-fuer-die-generation-gold-3/
LOCATION:Bistro Platane\, Wattenheimerstr. 2\, Carlsberg\, Rheinland-pfalz\, 67316\, Germany
END:VEVENT
BEGIN:VEVENT
DTSTART;TZID=Europe/Berlin:20190501T143000
DTEND;TZID=Europe/Berlin:20190501T153000
DTSTAMP:20260423T124243
CREATED:20181121T163428Z
LAST-MODIFIED:20190129T172759Z
UID:604-1556721000-1556724600@petralauer.de
SUMMARY:Konzert im Solina Steffisburg Schweiz
DESCRIPTION:Mittwoch\, 01.05.2019\,    14.30 – 15.30 Uhr \nKonzert im Solina Steffisburg\nZiegeleistrasse 22\n3612 Steffisburg (Schweiz)
URL:https://petralauer.de/event/konzert-im-solina-steffisburg-schweiz/
LOCATION:Solina Steffisburg\, Ziegeleistrasse 22\, Steffisburg\, Bern\, 3612\, Switzerland
END:VEVENT
BEGIN:VEVENT
DTSTART;TZID=Europe/Berlin:20190427T180000
DTEND;TZID=Europe/Berlin:20190427T230000
DTSTAMP:20260423T124243
CREATED:20190129T172058Z
LAST-MODIFIED:20190310T163931Z
UID:679-1556388000-1556406000@petralauer.de
SUMMARY:1. Lädis Musikparty in Frutigen\, Schweiz
DESCRIPTION:27.04.2019\, 18:00 Uhr \n-1. Lädis Musikparty in Frutigen\, Schweiz- \nmit Liveübertragung von Diis-Radio Schweiz \nim „Hotel Landhaus Adler“ \nDorfstrasse 16\, 3714 Frutigen (Schweiz) \n 
URL:https://petralauer.de/event/1-laedis-schlagerparty-in-frutigen-schweiz/
LOCATION:Landgasthof Adler\, Frutigen\, Schweiz\, Dorfstrasse 16\,\, Frutigen\, Bern\, 3714\, Switzerland
END:VEVENT
BEGIN:VEVENT
DTSTART;TZID=Europe/Berlin:20190407T130000
DTEND;TZID=Europe/Berlin:20190407T140000
DTSTAMP:20260423T124243
CREATED:20190218T121735Z
LAST-MODIFIED:20190218T121735Z
UID:812-1554642000-1554645600@petralauer.de
SUMMARY:Musik zum Frühlingsmarkt
DESCRIPTION:Sonntag\, 07.04.2019\, 13:00 – 14:00 Uhr\n\n-Musik zum Frühlingsmarkt-\nim „Avendi LanzCarré“\nLandteilstr. 29\, 68163 Mannheim-Lindenhof
URL:https://petralauer.de/event/musik-zum-fruehlingsmarkt/
LOCATION:Service-Wohnen & Pflege Lanzcarré Mannheim\, Landteilstr. 29\, Mannheim-Lindenhof\, Baden-Württemberg\, 68163\, Germany
END:VEVENT
BEGIN:VEVENT
DTSTART;TZID=Europe/Berlin:20190406T180000
DTEND;TZID=Europe/Berlin:20190406T213000
DTSTAMP:20260423T124243
CREATED:20190129T162039Z
LAST-MODIFIED:20190320T143713Z
UID:663-1554573600-1554586200@petralauer.de
SUMMARY:After-Show-Party zum Tag der offenen Weinkeller
DESCRIPTION:06.04.2019\, 18:00 Uhr \n-After-Show-Party zum Tag der offenen Weinkeller- \nim „Saumagenkeller Kallstadt“ \nWeinstraße 53\, 67169 Kallstadt
URL:https://petralauer.de/event/after-party-zum-tag-der-offenen-weinkeller/
LOCATION:Saumagenkeller Kallstadt\, Weinstraße 53\, Kallstadt\, Rheinland-Pfalz\, 67169\, Germany
END:VEVENT
BEGIN:VEVENT
DTSTART;TZID=Europe/Berlin:20190405T170000
DTEND;TZID=Europe/Berlin:20190405T190000
DTSTAMP:20260423T124243
CREATED:20190209T184057Z
LAST-MODIFIED:20190311T173912Z
UID:766-1554483600-1554490800@petralauer.de
SUMMARY:Hits & Evergreens nicht nur für die Generation Gold 2
DESCRIPTION:05.04.2019\, 17:00 – 19:00Uhr \n-Hits & Evergreens nicht nur für die Generation Gold- \nim „Bistro Platane“ \nWattenheimerstr. 2\, 67317 Carlsberg
URL:https://petralauer.de/event/hits-evergreens-fuer-die-generation-gold-2/
LOCATION:Bistro Platane\, Wattenheimerstr. 2\, Carlsberg\, Rheinland-pfalz\, 67316\, Germany
END:VEVENT
BEGIN:VEVENT
DTSTART;TZID=Europe/Berlin:20190330T190000
DTEND;TZID=Europe/Berlin:20190330T210000
DTSTAMP:20260423T124243
CREATED:20190216T162805Z
LAST-MODIFIED:20190310T163755Z
UID:801-1553972400-1553979600@petralauer.de
SUMMARY:Konzert im Restaurant Casa Iberica in Thun (Schweiz)
DESCRIPTION:30.03.2019\, 19:00 bis 21:00 Uhr\n-Konzert mit CD Vorstellung und deutschen Chansons- \nim „Restaurant Casa Iberica“\nMarktgasse 3\, 3600 Thun (Schweiz)
URL:https://petralauer.de/event/konzert-im-restaurant-casa-iberica-in-thun-schweiz/
LOCATION:Restaurant Casa Iberica (Thun Schweiz)\, Marktgasse 3 3600 Thun\, Thun\, Bern\, 3600\, Switzerland
ORGANIZER;CN="Restaurant Casa Iberica (Thun Schweiz)":MAILTO:info@casa-iberica.ch
END:VEVENT
BEGIN:VEVENT
DTSTART;TZID=Europe/Berlin:20190313T144500
DTEND;TZID=Europe/Berlin:20190313T163000
DTSTAMP:20260423T124243
CREATED:20190129T161026Z
LAST-MODIFIED:20190129T165611Z
UID:659-1552488300-1552494600@petralauer.de
SUMMARY:Musikalischer Nachmittag
DESCRIPTION:13.03.2019\, 14:45 Uhr \n-Musikalischer Nachmittag- \nim „Residenz Salinenhof (Pro Seniore)“ \nBurgweg 8-10\, 55543 Bad Kreuznach \nInterne Veranstaltung\, nicht öffentlich.
URL:https://petralauer.de/event/musikalischer-nachmittag/
LOCATION:Pro Seniore Bad Kreuznach\, Burgstr. 8-10\, Bad Kreuznach\, Rheinland-Pfalz\, 55543\, Germany
END:VEVENT
BEGIN:VEVENT
DTSTART;TZID=Europe/Berlin:20190308T170000
DTEND;TZID=Europe/Berlin:20190308T190000
DTSTAMP:20260423T124243
CREATED:20190209T181730Z
LAST-MODIFIED:20190209T185102Z
UID:761-1552064400-1552071600@petralauer.de
SUMMARY:Hits & Evergreens für die Generation Gold 1
DESCRIPTION:08.03.2019\, 17:00 – 19:00Uhr             \n-Hits & Evergreens für die Generation Gold- \nim „Bistro Platane“ \nWattenheimerstr. 2\, 67317 Carlsberg
URL:https://petralauer.de/event/hits-evergreens-fuer-die-generation-gold-1/
LOCATION:Bistro Platane\, Wattenheimerstr. 2\, Carlsberg\, Rheinland-pfalz\, 67316\, Germany
END:VEVENT
BEGIN:VEVENT
DTSTART;TZID=Europe/Berlin:20190304T180000
DTEND;TZID=Europe/Berlin:20190304T220000
DTSTAMP:20260423T124243
CREATED:20190129T155932Z
LAST-MODIFIED:20190129T195052Z
UID:656-1551722400-1551736800@petralauer.de
SUMMARY:Musikalischer Rosenmontag
DESCRIPTION:04.03.2019\, 18:00 Uhr \n-Musikalischer Rosenmontag- \nim „Black Cats\, Bistro & Restaurant“ \nHintergasse 6\, 67307 Göllheim
URL:https://petralauer.de/event/musikalischer-rosenmontag/
LOCATION:Black Cats\, Bistro & Restaurant\, Hintergasse 6\, Göllheim\, Rheinland-Pfalz\, 67307\, Germany
END:VEVENT
BEGIN:VEVENT
DTSTART;TZID=Europe/Berlin:20190214T170000
DTEND;TZID=Europe/Berlin:20190214T180000
DTSTAMP:20260423T124243
CREATED:20190129T154507Z
LAST-MODIFIED:20190129T154507Z
UID:650-1550163600-1550167200@petralauer.de
SUMMARY:Melodienstrauß zum Valentinstag
DESCRIPTION:14.02.2019\, 17:00 Uhr\n-Melodienstrauß zum Valentinstag- \nim „Café Alternativ“\nRohrlachstr. 76\, 67063 Ludwigshafen \n 
URL:https://petralauer.de/event/melodienstrauss-zum-valentinstag/
LOCATION:Café Alternativ\, Rohrlachstraße 76\, Ludwigshafen\, Baden Würtemberg\, 67063\, Germany
ORGANIZER;CN="Dezernat f%C3%BCr Soziales und Intregration (Seniorenf%C3%B6rderung)":MAILTO:Kerstin messemer-pfeiffer@ludwigshafen.de
END:VEVENT
END:VCALENDAR